BEGIN:VCALENDAR
VERSION:2.0
PRODID:-//AlgaVenice - ECPv6.15.18//NONSGML v1.0//EN
CALSCALE:GREGORIAN
METHOD:PUBLISH
X-ORIGINAL-URL:https://algavenice.com
X-WR-CALDESC:Eventi per AlgaVenice
REFRESH-INTERVAL;VALUE=DURATION:PT1H
X-Robots-Tag:noindex
X-PUBLISHED-TTL:PT1H
BEGIN:VTIMEZONE
TZID:Europe/Rome
BEGIN:DAYLIGHT
TZOFFSETFROM:+0100
TZOFFSETTO:+0200
TZNAME:CEST
DTSTART:20240331T010000
END:DAYLIGHT
BEGIN:STANDARD
TZOFFSETFROM:+0200
TZOFFSETTO:+0100
TZNAME:CET
DTSTART:20241027T010000
END:STANDARD
BEGIN:DAYLIGHT
TZOFFSETFROM:+0100
TZOFFSETTO:+0200
TZNAME:CEST
DTSTART:20250330T010000
END:DAYLIGHT
BEGIN:STANDARD
TZOFFSETFROM:+0200
TZOFFSETTO:+0100
TZNAME:CET
DTSTART:20251026T010000
END:STANDARD
BEGIN:DAYLIGHT
TZOFFSETFROM:+0100
TZOFFSETTO:+0200
TZNAME:CEST
DTSTART:20260329T010000
END:DAYLIGHT
BEGIN:STANDARD
TZOFFSETFROM:+0200
TZOFFSETTO:+0100
TZNAME:CET
DTSTART:20261025T010000
END:STANDARD
BEGIN:DAYLIGHT
TZOFFSETFROM:+0100
TZOFFSETTO:+0200
TZNAME:CEST
DTSTART:20270328T010000
END:DAYLIGHT
BEGIN:STANDARD
TZOFFSETFROM:+0200
TZOFFSETTO:+0100
TZNAME:CET
DTSTART:20271031T010000
END:STANDARD
END:VTIMEZONE
BEGIN:VEVENT
DTSTART;VALUE=DATE:20260419
DTEND;VALUE=DATE:20260420
DTSTAMP:20260420T123642
CREATED:20260327T094551Z
LAST-MODIFIED:20260327T095018Z
UID:14777-1776556800-1776643199@algavenice.com
SUMMARY:Forte Marghera VE 19 Aprile Forte in Fiore
DESCRIPTION:AlgaVenice spirulina bio 💚💕💚 \nA Forte in Fiore 🌹🌺🏵️🌾 \nDentro le mura di forte Marghera VE \nCon Coldiretti 💛💛 cerca i gazebo gialli \n19 Aprile 2026 \nDalle 9 al tramonto \n 
URL:https://algavenice.com/evento-it/forte-marghera-ve-19-aprile-forte-in-fiore/
LOCATION:forte Marghera\, Via forte Marghera 30\, Venezia Marghera\, 30173
CATEGORIES:fiere ed incontri
ATTACH;FMTTYPE=image/webp:https://algavenice.com/wp-content/uploads/2026/03/header_FIF26_loghi_no-vela-e-coldiretti-1536x1036-1.webp
ORGANIZER;CN="Societ%C3%A0 Agricola Serenissima S.r.l.":MAILTO:info@algavenice.com
END:VEVENT
BEGIN:VEVENT
DTSTART;VALUE=DATE:20260417
DTEND;VALUE=DATE:20260420
DTSTAMP:20260420T123642
CREATED:20260327T095519Z
LAST-MODIFIED:20260327T095519Z
UID:16285-1776384000-1776643199@algavenice.com
SUMMARY:Este PD 17 al 19 aprile Este in Fiore
DESCRIPTION:AlgaVenice spirulina bio 💚💕💚 \nA ESTE IN FIORE 🌹🌺🏵️🌾 dentro le mura del Castello 🏰 Carrarese \nCon Coldiretti 💛💛 cerca i gazebo gialli \nDal 17 al 19 Aprile 2026 \nDalle 9 al tramonto
URL:https://algavenice.com/evento-it/este-pd-17-al-19-aprile-este-in-fiore/
LOCATION:este\, Piazza Trieste\, Este\, 35042
CATEGORIES:fiere ed incontri
ATTACH;FMTTYPE=image/png:https://algavenice.com/wp-content/uploads/2026/03/images.png
ORGANIZER;CN="Societ%C3%A0 Agricola Serenissima S.r.l.":MAILTO:info@algavenice.com
END:VEVENT
BEGIN:VEVENT
DTSTART;TZID=Europe/Rome:20260411T103000
DTEND;TZID=Europe/Rome:20260412T220000
DTSTAMP:20260420T123642
CREATED:20260318T085103Z
LAST-MODIFIED:20260318T085152Z
UID:16247-1775903400-1776031200@algavenice.com
SUMMARY:Brescia forum Brixia Chimera Veg 11 e 12 aprile
DESCRIPTION:AlgaVenice spirulina bio 💚💚💚\nChimera Veg Fest 2026\n\n11–12 aprile 2026\nBrixia Forum\, Brescia\n\n 
URL:https://algavenice.com/evento-it/brescia-forum-brixia-chimera-veg-11-e-12-aprile/
LOCATION:BRIXIA FORUM fiera di Brescia\, Via Caprera\, 5\, Brescia\, 25125\, Italia
CATEGORIES:fiere ed incontri
ATTACH;FMTTYPE=image/jpeg:https://algavenice.com/wp-content/uploads/2026/03/shareimage.jpg
ORGANIZER;CN="Societ%C3%A0 Agricola Serenissima S.r.l.":MAILTO:info@algavenice.com
END:VEVENT
BEGIN:VEVENT
DTSTART;TZID=Europe/Rome:20260410T090000
DTEND;TZID=Europe/Rome:20260412T190000
DTSTAMP:20260420T123642
CREATED:20260318T083404Z
LAST-MODIFIED:20260404T034156Z
UID:16238-1775811600-1776020400@algavenice.com
SUMMARY:Lucca VERDEMURA 10-11-12 aprile 2026
DESCRIPTION:AlgaVenice spirulina bio 💚💚💚💚 \nVi aspettiamo alla \n17esima edizione di VERDEMURA \nPosizione 169 Algavenice Spirulina \nBaluardo della libertà 2_Planimetria_VM26 \nvenerdì 10\, sabato 11 e domenica 12 aprile 2026 \nDalle ore 9 alle 19 \nMura urbane di Lucca – Baluardi San Regolo – La Libertà – Orto Botanico di Lucca.
URL:https://algavenice.com/evento-it/lucca-verdemura-10-11-12-aprile-2026/
LOCATION:Baluardo San Regolo Baluardo la Libertà Orto botanico di Lucca\, Baluardo San Regolo Baluardo la Libertà Orto botanico di Lucca\, Lucca
CATEGORIES:fiere ed incontri
ATTACH;FMTTYPE=image/jpeg:https://algavenice.com/wp-content/uploads/2026/03/0-IMM-32x45-VM-2026-scaled-1.jpg
ORGANIZER;CN="Societ%C3%A0 Agricola Serenissima S.r.l.":MAILTO:info@algavenice.com
END:VEVENT
BEGIN:VEVENT
DTSTART;VALUE=DATE:20260329
DTEND;VALUE=DATE:20260330
DTSTAMP:20260420T123642
CREATED:20260318T082455Z
LAST-MODIFIED:20260318T082455Z
UID:16230-1774742400-1774828799@algavenice.com
SUMMARY:Montegrotto T. (Pd) 29 Marzo Primavera in Corso
DESCRIPTION:AlgaVenice spirulina bio \nCon Coldiretti  a Montegrotto Terme PD \nPRIMAVERA IN CORSO \nDomenica 29 MARZO 2026 \nDalle 9 al TRAMONTO \n💛💛💚💛💚💚 CERCA GAZEBI GIALLI COLDIRETTI  💛💛💚💛💚💚
URL:https://algavenice.com/evento-it/montegrotto-t-pd-29-marzo-primavera-in-corso/
LOCATION:Montegrotto Terme\, Viale delle terme\, Montegrotto Terme
CATEGORIES:fiere ed incontri
ATTACH;FMTTYPE=image/png:https://algavenice.com/wp-content/uploads/2026/03/primavera-in-corso-2026.png
ORGANIZER;CN="Societ%C3%A0 Agricola Serenissima S.r.l.":MAILTO:info@algavenice.com
END:VEVENT
BEGIN:VEVENT
DTSTART;TZID=Europe/Rome:20260321T090000
DTEND;TZID=Europe/Rome:20260322T183000
DTSTAMP:20260420T123642
CREATED:20260302T132748Z
LAST-MODIFIED:20260302T133145Z
UID:16203-1774083600-1774204200@algavenice.com
SUMMARY:NEL GIARDINO DEL DOGE MANIN  21 e 22 marzo Passariano UD
DESCRIPTION:AlgaVenice spirulina bio\nA Passariano (UD)\nNEL GIARDINO DEL DOGE MANIN – \n21 e 22 MARZO 2026\nOrario dalle 9 al tramonto\nPrezzo euro 3.00
URL:https://algavenice.com/evento-it/codroipo-ud-nel-giardino-del-doge-manin-21-e-22-marzo/
LOCATION:Passariano di Codroipo UD\, Stradone Manin 10\, Passariano\, 33033
CATEGORIES:fiere ed incontri
ATTACH;FMTTYPE=image/jpeg:https://algavenice.com/wp-content/uploads/2026/03/giardinoDoge-1080x1080-1.jpg
ORGANIZER;CN="Societ%C3%A0 Agricola Serenissima S.r.l.":MAILTO:info@algavenice.com
END:VEVENT
BEGIN:VEVENT
DTSTART;TZID=Europe/Rome:20260313T090000
DTEND;TZID=Europe/Rome:20260315T190000
DTSTAMP:20260420T123642
CREATED:20260302T111042Z
LAST-MODIFIED:20260302T111424Z
UID:16194-1773392400-1773601200@algavenice.com
SUMMARY:Fa' La Cosa Giusta Rho Milano 13 al 15 marzo 2026
DESCRIPTION:AlgaVenice spirulina \nVi aspettiamo al Padiglione 20 stand E60 \nFa’ la cosa giusta! \nFiera Milano Rho (padiglioni 16 e 20) \nvenerdì 13\, sabato 14\, domenica 15 marzo 2026 \nOrari: venerdì e sabato h.9-20\, domenica h.9.30-19 \nIngresso gratuito previa registrazione sul sito: falacosagiusta.org \n22esima edizione della fiera nazionale del consumo critico e degli stili di vita \n 
URL:https://algavenice.com/evento-it/fa-la-cosa-giusta-rho-milano-13-al-15-marzo-2026/
LOCATION:Fiera di Rho\, Strada Statale Sempione\, 28 - 20017\, Rho (MI)\, Italia
ORGANIZER;CN="Societ%C3%A0 Agricola Serenissima S.r.l.":MAILTO:info@algavenice.com
END:VEVENT
BEGIN:VEVENT
DTSTART;VALUE=DATE:20260308
DTEND;VALUE=DATE:20260309
DTSTAMP:20260420T123642
CREATED:20260302T104250Z
LAST-MODIFIED:20260302T104250Z
UID:16187-1772928000-1773014399@algavenice.com
SUMMARY:Padova Prato della Valle domenica 8 marzo
DESCRIPTION:Domenica 8 Marzo \n\nA Padova Prato della Valle \n\nCi ospiterà con i nostri integratori alimentari naturali spirulina bio AlgaVenice \n\nLa manifestazione \n\nAPI E PRATI \n\nDalle 9 alle 19
URL:https://algavenice.com/evento-it/padova-prato-della-valle-domenica-8-marzo/
LOCATION:Eventi in Prato della Valle a Padova\, Prato della Valle - 35141\, Padova (PD)
CATEGORIES:fiere ed incontri
ATTACH;FMTTYPE=image/jpeg:https://algavenice.com/wp-content/uploads/2026/03/IMG_20260302_113853.jpg
ORGANIZER;CN="Societ%C3%A0 Agricola Serenissima S.r.l.":MAILTO:info@algavenice.com
END:VEVENT
BEGIN:VEVENT
DTSTART;TZID=Europe/Rome:20260221T100000
DTEND;TZID=Europe/Rome:20260222T190000
DTSTAMP:20260420T123642
CREATED:20260215T131928Z
LAST-MODIFIED:20260215T131928Z
UID:16166-1771668000-1771786800@algavenice.com
SUMMARY:Benessere & Bio 21 e 22 febbraio Santa Lucia di Piave TV
DESCRIPTION:AlgaVenice spirulina bio \nFiera Benessere & Bio \nFiere di Santa Lucia di Piave – Ex Filande \nVia Mareno\, 1 \n31025 Santa Lucia di Piave (TV) \nVi aspettiamo \n21 – 22 Febbraio 2026 \nORARI \n21 Febbraio | 10.00 – 20.00 \n22 Febbraio | 10.00 – 19.00
URL:https://algavenice.com/evento-it/benessere-bio-21-e-22-febbraio-santa-lucia-di-piave-tv/
LOCATION:Fiera di Santa Lucia di Piave\, via Mareno\, 2\, 31025 Santa Lucia di Piave TV\, Italia
ATTACH;FMTTYPE=image/jpeg:https://algavenice.com/wp-content/uploads/2026/02/https___cdn.evbuc_.com_images_1172749448_236941247316_1_original.jpeg
ORGANIZER;CN="Societ%C3%A0 Agricola Serenissima S.r.l.":MAILTO:info@algavenice.com
END:VEVENT
BEGIN:VEVENT
DTSTART;VALUE=DATE:20260201
DTEND;VALUE=DATE:20260202
DTSTAMP:20260420T123642
CREATED:20260201T053501Z
LAST-MODIFIED:20260201T053719Z
UID:16134-1769904000-1769990399@algavenice.com
SUMMARY:Padova Prato della Valle 1 febbraio 2026
DESCRIPTION:Domenica 1 febbraio \nA Padova Prato della Valle \nCi ospiterà con i nostri integratori alimentari naturali spirulina bio AlgaVenice \nLa manifestazione \nLegumi che passione ! \nDalle 9 alle 19
URL:https://algavenice.com/evento-it/padova-prato-della-valle-1-febbraio/
LOCATION:Eventi in Prato della Valle a Padova\, Prato della Valle - 35141\, Padova (PD)
CATEGORIES:fiere ed incontri
ATTACH;FMTTYPE=image/jpeg:https://algavenice.com/wp-content/uploads/2026/02/IMG-20260126-WA0002.jpg
ORGANIZER;CN="Societ%C3%A0 Agricola Serenissima S.r.l.":MAILTO:info@algavenice.com
END:VEVENT
BEGIN:VEVENT
DTSTART;TZID=Europe/Rome:20251220T110000
DTEND;TZID=Europe/Rome:20251221T200000
DTSTAMP:20260420T123642
CREATED:20251127T135338Z
LAST-MODIFIED:20251127T135338Z
UID:15990-1766228400-1766347200@algavenice.com
SUMMARY:Factory Market 20 e 21 dicembre Alzano L.do BG
DESCRIPTION:AlgaVenice spirulina bio 💚\nVi aspettiamo con i nostri integratori alimentari naturali\nOltre 100 espositori provenienti da tutta Italia nelle categorie: abbigliamento handmade\, accessori\, ceramica\, bijoux\,\nAlzano Lombardo spazio fase \nSabato 20 e domenica 21 dicembre
URL:https://algavenice.com/evento-it/factory-market-20-e-21-dicembre-alzano-l-do-bg/
LOCATION:Alzano Lombardo\, Via Daniele Pesenti\, 1\, Alzano lombardo\, 24022
CATEGORIES:fiere ed incontri
ATTACH;FMTTYPE=image/jpeg:https://algavenice.com/wp-content/uploads/2025/11/factory-market-edizione-natalizia.jpg
ORGANIZER;CN="Societ%C3%A0 Agricola Serenissima S.r.l.":MAILTO:info@algavenice.com
END:VEVENT
BEGIN:VEVENT
DTSTART;TZID=Europe/Rome:20251213T090000
DTEND;TZID=Europe/Rome:20251215T180000
DTSTAMP:20260420T123642
CREATED:20251203T095409Z
LAST-MODIFIED:20251203T095409Z
UID:16005-1765616400-1765821600@algavenice.com
SUMMARY:Santa Lucia di Piave TV dal 13 al 15 dicembre 2025
DESCRIPTION:AlgaVenice spirulina bio 💚💛\nCon Coldiretti\nFILANDE – SPAZIO VENETO AGRICOLTURA\nAlla fiera di Santa Lucia di Piave TV\nVi aspettiamo dentro alla fiera Filande\nDalle 9 alle 18\nNei giorni\nSabato 13 dicembre\nDomenica 14 dicembre\nLunedì 15 dicembre
URL:https://algavenice.com/evento-it/santa-lucia-di-piave-tv-dal-13-al-15-dicembre-2025/
LOCATION:Fiera di Santa Lucia di Piave\, via Mareno\, 2\, 31025 Santa Lucia di Piave TV\, Italia
CATEGORIES:fiere ed incontri
ATTACH;FMTTYPE=image/jpeg:https://algavenice.com/wp-content/uploads/2025/12/FSL25_331x207px.jpg
END:VEVENT
BEGIN:VEVENT
DTSTART;TZID=Europe/Rome:20251206T090000
DTEND;TZID=Europe/Rome:20251214T223000
DTSTAMP:20260420T123642
CREATED:20251107T101521Z
LAST-MODIFIED:20251107T101611Z
UID:15524-1765011600-1765751400@algavenice.com
SUMMARY:Artigiano in fiera Rho Mi 6 al 14 dicembre
DESCRIPTION:AlgaVenice spirulina bio 💚\nVi aspettiamo\nAd Artigiana in fiera di RHO MILANO\nDAL 6 DICEMBRE AL 14 DICEMBRE\nPADIGLIONE 1 VENETO\nSTAND D 85
URL:https://algavenice.com/evento-it/artigiano-in-fiera-rho-mi-6-al-14-dicembre/
LOCATION:Fiera di Rho\, Strada Statale Sempione\, 28 - 20017\, Rho (MI)\, Italia
CATEGORIES:fiere ed incontri
ATTACH;FMTTYPE=image/webp:https://algavenice.com/wp-content/uploads/2025/11/1000329034.webp
ORGANIZER;CN="Societ%C3%A0 Agricola Serenissima S.r.l.":MAILTO:info@algavenice.com
END:VEVENT
BEGIN:VEVENT
DTSTART;VALUE=DATE:20251130
DTEND;VALUE=DATE:20251201
DTSTAMP:20260420T123642
CREATED:20251124T132238Z
LAST-MODIFIED:20251124T132238Z
UID:14950-1764460800-1764547199@algavenice.com
SUMMARY:Vicenza 30 novembre Campagna amica in città
DESCRIPTION:AlgaVenice spirulina bio\nCon Coldiretti Campagna amica in città\nPiazza dei Signori\nVicenza\nDomenica 30 novembre\nDalle 9 alle 20
URL:https://algavenice.com/evento-it/vicenza-30-novembre-campagna-amica-in-citta/
LOCATION:Vicenza piazza dei signori\, Piazza dei signori\, Vicenza
CATEGORIES:fiere ed incontri
ATTACH;FMTTYPE=image/jpeg:https://algavenice.com/wp-content/uploads/2025/11/IMG-20251121-WA0043.jpg
ORGANIZER;CN="Societ%C3%A0 Agricola Serenissima S.r.l.":MAILTO:info@algavenice.com
END:VEVENT
BEGIN:VEVENT
DTSTART;VALUE=DATE:20251123
DTEND;VALUE=DATE:20251124
DTSTAMP:20260420T123642
CREATED:20251117T223428Z
LAST-MODIFIED:20251117T223428Z
UID:15530-1763856000-1763942399@algavenice.com
SUMMARY:L’APE IN CITTÀ Padova – Prato della Valle Domenica 23 Novembre
DESCRIPTION:AlgaVenice spirulina bio 💚\n🌼🐝 L’APE IN CITTÀ – Nettari • Api • Miele 🐝🌼\n📍 Padova – Prato della Valle\n📅 Domenica 23 Novembre 2025\n🕘 Dalle 9:30 alle 19:00
URL:https://algavenice.com/evento-it/lape-in-citta-padova-prato-della-valle-domenica-23-novembre/
LOCATION:Eventi in Prato della Valle a Padova\, Prato della Valle - 35141\, Padova (PD)
CATEGORIES:fiere ed incontri
ATTACH;FMTTYPE=image/jpeg:https://algavenice.com/wp-content/uploads/2025/11/IMG-20251117-WA0011.jpg
ORGANIZER;CN="Societ%C3%A0 Agricola Serenissima S.r.l.":MAILTO:info@algavenice.com
END:VEVENT
BEGIN:VEVENT
DTSTART;VALUE=DATE:20251123
DTEND;VALUE=DATE:20251124
DTSTAMP:20260420T123642
CREATED:20251107T100819Z
LAST-MODIFIED:20251107T100819Z
UID:15511-1763856000-1763942399@algavenice.com
SUMMARY:Piazzola sul Brenta PD Coldiretti giornata del ringraziamento 23 novembre
DESCRIPTION:AlgaVenice spirulina bio 💚💛\nCon Coldiretti alla\n75^ Giornata Provinciale del Ringraziamento che si terrà presso il Duomo di Piazzola sul Brenta (PD) domenica 23 novembre 2025
URL:https://algavenice.com/evento-it/piazzola-sul-brenta-pd-coldiretti-giornata-del-ringraziamento-23-novembre/
LOCATION:piazzola sul Brenta duomo\, Piazza Camerini\, Piazzola sul Brenta
CATEGORIES:fiere ed incontri
ATTACH;FMTTYPE=image/jpeg:https://algavenice.com/wp-content/uploads/2025/11/Screenshot_20251107_110643.jpg
ORGANIZER;CN="Societ%C3%A0 Agricola Serenissima S.r.l.":MAILTO:info@algavenice.com
END:VEVENT
BEGIN:VEVENT
DTSTART;TZID=Europe/Rome:20251114T090000
DTEND;TZID=Europe/Rome:20251116T190000
DTSTAMP:20260420T123642
CREATED:20251105T135636Z
LAST-MODIFIED:20251105T135636Z
UID:15500-1763110800-1763319600@algavenice.com
SUMMARY:SAPORI D'AUTUNNO 2025 Padova 14-15-16 novembre
DESCRIPTION:AlgaVenice spirulina bio 💚💛\nCi troveremo a\nSAPORI D’AUTUNNO 2025\nche si terrà dal 14 al 16 novembre presso Prato della Valle a Padova\, nell’area del Lobo Santa Giustina.\nOrario\nVenerdì\, dalle 15:00 alle 19:00 \nSabato e domenica\, dalle 9:00 alle 19:00
URL:https://algavenice.com/evento-it/sapori-dautunno-2025-padova-14-15-16-novembre/
LOCATION:Eventi in Prato della Valle a Padova\, Prato della Valle - 35141\, Padova (PD)
CATEGORIES:fiere ed incontri
ATTACH;FMTTYPE=image/jpeg:https://algavenice.com/wp-content/uploads/2025/11/IMG_20251105_145516.jpg
ORGANIZER;CN="Societ%C3%A0 Agricola Serenissima S.r.l.":MAILTO:info@algavenice.com
END:VEVENT
BEGIN:VEVENT
DTSTART;TZID=Europe/Rome:20251109T090000
DTEND;TZID=Europe/Rome:20251116T190000
DTSTAMP:20260420T123642
CREATED:20251103T085606Z
LAST-MODIFIED:20251105T135248Z
UID:15489-1762678800-1763319600@algavenice.com
SUMMARY:Fiera di San Martino Piazzola s/Brenta 11-16 novembre
DESCRIPTION:AlgaVenice spirulina bio 💚\nCon Coldiretti 💛💛💚💛💛\nVi aspettiamo\n🌾 FIERA di San Martino Piazzola sul Brenta PD– \n📍 Piazzola sul Brenta (PD)\n📅 Ci trovi nei giorni\nMartedì 11\nDomenica 16 novembre 2025\n🕘 Dalle ore 9:00 alle 19:00 \n— \nVieni a scoprire i sapori autentici del territorio alla Fiera di San Martino.\nTre giornate dedicate all’agricoltura locale\, ai prodotti genuini e all’incontro con i produttori del circuito Campagna Amica di Coldiretti Padova.
URL:https://algavenice.com/evento-it/fiera-di-san-martino-piazzola-s-brenta-9-11-16-novembre/
LOCATION:piazzola sul Brenta\, Piazzola sul Brenta\, 35016
CATEGORIES:fiere ed incontri
ATTACH;FMTTYPE=image/jpeg:https://algavenice.com/wp-content/uploads/2025/11/IMG_20251103_094543.jpg
ORGANIZER;CN="Societ%C3%A0 Agricola Serenissima S.r.l.":MAILTO:info@algavenice.com
END:VEVENT
BEGIN:VEVENT
DTSTART;TZID=Europe/Rome:20251106T090000
DTEND;TZID=Europe/Rome:20251109T200000
DTSTAMP:20260420T123642
CREATED:20251029T103627Z
LAST-MODIFIED:20251029T103801Z
UID:15472-1762419600-1762718400@algavenice.com
SUMMARY:FIERA CAVALLI 🐎 Verona 6 - 9 novembre 2025
DESCRIPTION:AlgaVenice spirulina bio 💚\nSpirulina per dare energia al cavaliere e anche al suo cavallo 🐎 🐎\nVi aspettiamo  \nFiera Cavalli Verona\n📅 Date: dal 6 al 9 novembre \nStand n.2 galleria 6/7\nFiera di Verona \n🕘 Orario: dalle 9:00 alle 20:00 \nstorica Fiera Cavalli Verona\, il più importante appuntamento internazionale dedicato al mondo equestre. Ti aspettiamo nel nostro stand situato nella galleria tra i padiglioni 6 e 7\, vieni a scoprire come la spirulina migliora il tuo benessere fisico
URL:https://algavenice.com/evento-it/fiera-cavalli-%f0%9f%90%8e-verona-6-9-novembre-2025/
LOCATION:verona fiera\, Viale del lavoro 8\, Verona\, 37135\, Italy
CATEGORIES:fiere ed incontri
ATTACH;FMTTYPE=image/png:https://algavenice.com/wp-content/uploads/2025/10/IMG_20251029_092554.png
ORGANIZER;CN="Societ%C3%A0 Agricola Serenissima S.r.l.":MAILTO:info@algavenice.com
END:VEVENT
BEGIN:VEVENT
DTSTART;TZID=Europe/Rome:20251101T090000
DTEND;TZID=Europe/Rome:20251102T190000
DTSTAMP:20260420T123642
CREATED:20251015T221805Z
LAST-MODIFIED:20251015T221805Z
UID:15416-1761987600-1762110000@algavenice.com
SUMMARY:FIERA DEI SANTI – FIERA AGRICOLA 2025 1 e 2 novembre Monselice PD
DESCRIPTION:AlgaVenice spirulina bio 💚\nVi aspettiamo\n🌾 FIERA DEI SANTI – FIERA AGRICOLA 2025 \n📍 Cava della Rocca\, Monselice (PD)\n📅 1 e 2 novembre 2025\n🕘 Dalle ore 9:00 alle 19:00 \n— \nVieni a scoprire i sapori autentici del territorio alla Fiera Agricola di Monselice\, in occasione della storica Fiera dei Santi!\nDue giornate dedicate all’agricoltura locale\, ai prodotti genuini e all’incontro con i produttori del circuito Campagna Amica di Coldiretti Padova.
URL:https://algavenice.com/evento-it/fiera-dei-santi-fiera-agricola-2025-1-e-2-novembre-monselice-pd/
LOCATION:Monselice\, Monselice
CATEGORIES:fiere ed incontri
ATTACH;FMTTYPE=image/jpeg:https://algavenice.com/wp-content/uploads/2025/10/IMG-20251013-WA0022.jpg
ORGANIZER;CN="Societ%C3%A0 Agricola Serenissima S.r.l.":MAILTO:info@algavenice.com
END:VEVENT
BEGIN:VEVENT
DTSTART;TZID=Europe/Rome:20251030T150000
DTEND;TZID=Europe/Rome:20251103T210000
DTSTAMP:20260420T123642
CREATED:20251007T135708Z
LAST-MODIFIED:20251007T135708Z
UID:15401-1761836400-1762203600@algavenice.com
SUMMARY:MoMa mostra Artigianato Erba Como 30 ottobre al 3 novembre
DESCRIPTION:AlgaVenice spirulina bio 💚\nAlla\nmostra artigiano di Erba Como\nGIORNI DI APERTURA\n30 OTTOBRE – 3 NOVEMBRE 2025\nLariofiere Como Lecco \nORARI DELLA MOSTRA\nGiovedì 30: 15.00 – 21.00\nVenerdì 31\, Sabato 1\, Domenica 2: 10.00 – 21.00\nLunedì 3: 10.00 – 18.00
URL:https://algavenice.com/evento-it/moma-mostra-artigianato-erba-como-30-ottobre-al-3-novembre/
LOCATION:LARIOFIERE ERBA COMO\, Viale Resegone sn\, Erba (CO)\, 22036\, Italia
CATEGORIES:fiere ed incontri
ATTACH;FMTTYPE=image/png:https://algavenice.com/wp-content/uploads/2025/10/images.png
ORGANIZER;CN="Societ%C3%A0 Agricola Serenissima S.r.l.":MAILTO:info@algavenice.com
END:VEVENT
BEGIN:VEVENT
DTSTART;VALUE=DATE:20251026
DTEND;VALUE=DATE:20251027
DTSTAMP:20260420T123642
CREATED:20251016T133338Z
LAST-MODIFIED:20251016T133338Z
UID:15433-1761436800-1761523199@algavenice.com
SUMMARY:Borgo del Talco Padova domenica 26 ottobre
DESCRIPTION:AlgaVenice spirulina bio 💚 💛 💛 💚\n🎉 Borgo del Talco –\nLa via che non ti aspetti \n📍 Via Bezzeca\, Padova\n📅 Domenica 26 ottobre 2025\n🕒 Dalle 10:00 alle 19:00 \n— \nDescrizione:\nIl quartiere che profumava di talco è tornato a farsi bello!\nUna giornata speciale dedicata a scoprire la magia di Via Bezzeca: artigiani\, musica\, street food\, laboratori per grandi e piccoli\, e tante sorprese.\nVieni a vivere la via che non ti aspetti e la domenica che ti serve\, tra profumi\, colori e sorrisi.
URL:https://algavenice.com/evento-it/borgo-del-talco-padova-domenica-26-ottobre/
LOCATION:padova via Bezzecca\, Via Bezzecca\, Padova
CATEGORIES:fiere ed incontri
ATTACH;FMTTYPE=image/jpeg:https://algavenice.com/wp-content/uploads/2025/10/IMG_20251016_152900.jpg
ORGANIZER;CN="Societ%C3%A0 Agricola Serenissima S.r.l.":MAILTO:info@algavenice.com
END:VEVENT
BEGIN:VEVENT
DTSTART;TZID=Europe/Rome:20251025T120000
DTEND;TZID=Europe/Rome:20251027T220000
DTSTAMP:20260420T123642
CREATED:20251016T134726Z
LAST-MODIFIED:20251022T101307Z
UID:15442-1761393600-1761602400@algavenice.com
SUMMARY:431ª FIERA FRANCA DI CITTADELLA PD  25 – 26 – 27 Ottobre 2025
DESCRIPTION:AlgaVenice spirulina bio 💚\n🎪 431ª FIERA FRANCA DI CITTADELLA\n📅 25 – 26 – 27 Ottobre 2025\n📍 Cittadella (PD)\nDentro tensostruttura stand AlgaVenice spirulina bio 💚💛
URL:https://algavenice.com/evento-it/431a-fiera-franca-di-cittadella-pd-25-26-27-ottobre-2025/
LOCATION:Cittadella\, Cittadella
ATTACH;FMTTYPE=image/png:https://algavenice.com/wp-content/uploads/2025/10/IMG_20251022_121054.png
ORGANIZER;CN="Societ%C3%A0 Agricola Serenissima S.r.l.":MAILTO:info@algavenice.com
END:VEVENT
BEGIN:VEVENT
DTSTART;TZID=Europe/Rome:20251024T140000
DTEND;TZID=Europe/Rome:20251026T190000
DTSTAMP:20260420T123642
CREATED:20251007T122150Z
LAST-MODIFIED:20251007T122150Z
UID:15392-1761314400-1761505200@algavenice.com
SUMMARY:Bio verde Salus Trento 24/26 ottobre
DESCRIPTION:AlgaVenice spirulina bio 💚\nVia aspettiamo a\n🌿 Bio Verde Salus 2025 \nFestival del Benessere\, dell’Alimentazione Biologica\, degli Ecoprodotti e della Salute Ambientale \n📍 Trento Expo Fiere\nVia di Briamasco 2\, Trento \n📅 24 – 25 – 26 ottobre 2025 \nVenerdì 24: 14:00 – 19:00 \nSabato 25 e Domenica 26: 10:00 – 19:00 \n🎟️ Ingresso gratuito
URL:https://algavenice.com/evento-it/bio-verde-salus-trento-24-26-ottobre/
LOCATION:trento Expo\, Via Briamasco 2\, Trento\, 38121
CATEGORIES:fiere ed incontri
ATTACH;FMTTYPE=image/jpeg:https://algavenice.com/wp-content/uploads/2025/10/BVS-locandina-levoluzione-e-nella-natura.jpg
ORGANIZER;CN="Societ%C3%A0 Agricola Serenissima S.r.l.":MAILTO:info@algavenice.com
END:VEVENT
BEGIN:VEVENT
DTSTART;TZID=Europe/Rome:20251018T093000
DTEND;TZID=Europe/Rome:20251020T200000
DTSTAMP:20260420T123642
CREATED:20251016T132816Z
LAST-MODIFIED:20251016T134128Z
UID:15423-1760779800-1760990400@algavenice.com
SUMMARY:ANTICA FIERA DI ARSEGO con Coldiretti  San Giorgio delle pertiche PD 18 al 20 ottobre 2025
DESCRIPTION:🎉 EVENTO SPECIALE ALL’ANTICA FIERA DI ARSEGO 2025 🎉\n📅 Dal 17 al 21 ottobre 2025\n📍 Stand Coldiretti 💛💚💛💚 – Area mercato del contadino  \n🌿 AlgaVenice presenta: Spirulina Bio 100% italiana! 🌿 \nScopri la spirulina biologica e i nostri integratori alimentari naturali\, un superfood sostenibile\, ricco di proteine\, vitamine e antiossidanti. \n👉 Vieni a conoscere da vicino i produttori\, scopri come nasce la spirulina e assaggia i nostri prodotti innovativi a base di spirulina
URL:https://algavenice.com/evento-it/antica-fiera-di-arsego-con-coldiretti-san-giorgio-delle-pertiche-pd-18-al-20-ottobre-2025/
LOCATION:san giorgio delle pertiche\, Via Roma\, San Giorgio delle pertiche
CATEGORIES:fiere ed incontri
ATTACH;FMTTYPE=image/jpeg:https://algavenice.com/wp-content/uploads/2025/10/header_mobile_sito_arsego2025_V2-scaled-1.jpg
ORGANIZER;CN="Societ%C3%A0 Agricola Serenissima S.r.l.":MAILTO:info@algavenice.com
END:VEVENT
BEGIN:VEVENT
DTSTART;TZID=Europe/Rome:20251018T093000
DTEND;TZID=Europe/Rome:20251019T200000
DTSTAMP:20260420T123642
CREATED:20250930T091503Z
LAST-MODIFIED:20250930T091503Z
UID:15376-1760779800-1760904000@algavenice.com
SUMMARY:Benessere bio Santa Lucia di Piave TV 18 E 19 OTTOBRE
DESCRIPTION:Vi aspetta AlgaVenice spirulina bio 💚💛\nA santa Lucia di Piave TV\nPer appuntamento di ottobre con\nBENESSERE BIO 💚\n18 E 19 OTTOBRE
URL:https://algavenice.com/evento-it/benessere-bio-santa-lucia-di-piave-tv-18-e-19-ottobre/
LOCATION:Fiera di Santa Lucia di Piave\, via Mareno\, 2\, 31025 Santa Lucia di Piave TV\, Italia
CATEGORIES:fiere ed incontri
ATTACH;FMTTYPE=image/png:https://algavenice.com/wp-content/uploads/2025/09/copertina-fb.png
ORGANIZER;CN="Societ%C3%A0 Agricola Serenissima S.r.l.":MAILTO:info@algavenice.com
END:VEVENT
BEGIN:VEVENT
DTSTART;TZID=Europe/Rome:20251018T093000
DTEND;TZID=Europe/Rome:20251019T190000
DTSTAMP:20260420T123642
CREATED:20250929T135202Z
LAST-MODIFIED:20250929T135236Z
UID:15354-1760779800-1760900400@algavenice.com
SUMMARY:CoVegan San Fermo d/Battaglia 18 e 19 ottobre Como
DESCRIPTION:AlgaVenice spirulina bio 💚\nA CoVegan San Fermo della Battaglia Como\nVilla Imbonati\nlocalità Cavallasca  \nVil \nla Imbonati
URL:https://algavenice.com/evento-it/covegan-san-fermo-d-battaglia-18-e-19-ottobre-como/
LOCATION:san Fermo della battaglia como\, Località Cavallasca\, San Fermo della battaglia
CATEGORIES:fiere ed incontri
ATTACH;FMTTYPE=image/jpeg:https://algavenice.com/wp-content/uploads/2025/09/unnamed.jpg
ORGANIZER;CN="Societ%C3%A0 Agricola Serenissima S.r.l.":MAILTO:info@algavenice.com
END:VEVENT
BEGIN:VEVENT
DTSTART;TZID=Europe/Rome:20251011T090000
DTEND;TZID=Europe/Rome:20251012T220000
DTSTAMP:20260420T123642
CREATED:20250929T133712Z
LAST-MODIFIED:20250929T133712Z
UID:15346-1760173200-1760306400@algavenice.com
SUMMARY:Comacchio FE Sagra dell' anguilla 11 e 12 ottobre
DESCRIPTION:AlgaVenice spirulina bio 💚\nAlla sagra dell’ anguilla\nComacchio Ferrara\nSabato 11 e domenica 12 ottobre
URL:https://algavenice.com/evento-it/comacchio-fe-sagra-dell-anguilla-11-e-12-ottobre/
LOCATION:Comacchio\, Comacchio
CATEGORIES:fiere ed incontri
ATTACH;FMTTYPE=image/jpeg:https://algavenice.com/wp-content/uploads/2025/09/IMG_20250929_153307.jpg
ORGANIZER;CN="Societ%C3%A0 Agricola Serenissima S.r.l.":MAILTO:info@algavenice.com
END:VEVENT
BEGIN:VEVENT
DTSTART;TZID=Europe/Rome:20251004T090000
DTEND;TZID=Europe/Rome:20251005T193000
DTSTAMP:20260420T123642
CREATED:20250905T133714Z
LAST-MODIFIED:20250905T133714Z
UID:15304-1759568400-1759692600@algavenice.com
SUMMARY:Caseus Shop 2025  4 e 5 ottobre Piazzo sul Brenta PD
DESCRIPTION:AlgaVenice spirulina bio 💚💛\nVi aspettiamo\nA CASEUS SHOP 2025\n4–5 Ottobre 2025\nVilla Contarini\nPiazzola sul Brenta (PD)
URL:https://algavenice.com/evento-it/caseus-shop-2025-4-e-5-ottobre-piazzo-sul-brenta-pd/
LOCATION:piazzola sul Brenta\, Piazzola sul Brenta\, 35016
CATEGORIES:fiere ed incontri
ATTACH;FMTTYPE=image/jpeg:https://algavenice.com/wp-content/uploads/2025/09/IMG_20250905_153646.jpg
ORGANIZER;CN="Societ%C3%A0 Agricola Serenissima S.r.l.":MAILTO:info@algavenice.com
END:VEVENT
BEGIN:VEVENT
DTSTART;TZID=Europe/Rome:20251004T090000
DTEND;TZID=Europe/Rome:20251005T170000
DTSTAMP:20260420T123642
CREATED:20250919T074918Z
LAST-MODIFIED:20250919T074918Z
UID:15335-1759568400-1759683600@algavenice.com
SUMMARY:4 e 5 ottobre Desmontegada Predazzo TN & Festival del Gusto
DESCRIPTION:AlgaVenice spirulina bio 💚 💛  \nVi aspettiamo\nDesmontegada de le vache di Predazzo & Festival del Gusto \n📍 Luogo: Predazzo\, Val di Fiemme (Trentino)\n📅 Date: 4 – 5 ottobre 2025\n🎊 Edizione: 30ª \n— \n🐄 Cos’è la Desmontegada? \nLa “Desmontegada de le vache” è la tradizionale festa del rientro delle mandrie dagli alpeggi estivi. Le mucche\, adornate con fiori e ghirlande\, sfilano per le vie del paese accompagnate da allevatori in abiti tipici. \n🍽️ Festival del Gusto \nDurante la manifestazione sarà possibile degustare specialità tipiche trentine: \nFormaggi e salumi locali \nPiatti della tradizione di montagna \nDolci artigianali \nVini e birre del territorio
URL:https://algavenice.com/evento-it/4-e-5-ottobre-desmontegada-predazzo-tn-festival-del-gusto/
LOCATION:Predazzo\, Piazza SS. Filippo e Giacomo\,\, Predazzo
ATTACH;FMTTYPE=image/jpeg:https://algavenice.com/wp-content/uploads/2025/09/IMG_20250919_091015.jpg
ORGANIZER;CN="Societ%C3%A0 Agricola Serenissima S.r.l.":MAILTO:info@algavenice.com
END:VEVENT
END:VCALENDAR