BEGIN:VCALENDAR
VERSION:2.0
PRODID:-//AlgaVenice - ECPv6.15.18//NONSGML v1.0//EN
CALSCALE:GREGORIAN
METHOD:PUBLISH
X-ORIGINAL-URL:https://algavenice.com/ja/
X-WR-CALDESC:AlgaVenice のイベント
REFRESH-INTERVAL;VALUE=DURATION:PT1H
X-Robots-Tag:noindex
X-PUBLISHED-TTL:PT1H
BEGIN:VTIMEZONE
TZID:Europe/Rome
BEGIN:DAYLIGHT
TZOFFSETFROM:+0100
TZOFFSETTO:+0200
TZNAME:CEST
DTSTART:20210328T010000
END:DAYLIGHT
BEGIN:STANDARD
TZOFFSETFROM:+0200
TZOFFSETTO:+0100
TZNAME:CET
DTSTART:20211031T010000
END:STANDARD
BEGIN:DAYLIGHT
TZOFFSETFROM:+0100
TZOFFSETTO:+0200
TZNAME:CEST
DTSTART:20220327T010000
END:DAYLIGHT
BEGIN:STANDARD
TZOFFSETFROM:+0200
TZOFFSETTO:+0100
TZNAME:CET
DTSTART:20221030T010000
END:STANDARD
BEGIN:DAYLIGHT
TZOFFSETFROM:+0100
TZOFFSETTO:+0200
TZNAME:CEST
DTSTART:20230326T010000
END:DAYLIGHT
BEGIN:STANDARD
TZOFFSETFROM:+0200
TZOFFSETTO:+0100
TZNAME:CET
DTSTART:20231029T010000
END:STANDARD
BEGIN:DAYLIGHT
TZOFFSETFROM:+0100
TZOFFSETTO:+0200
TZNAME:CEST
DTSTART:20240331T010000
END:DAYLIGHT
BEGIN:STANDARD
TZOFFSETFROM:+0200
TZOFFSETTO:+0100
TZNAME:CET
DTSTART:20241027T010000
END:STANDARD
BEGIN:DAYLIGHT
TZOFFSETFROM:+0100
TZOFFSETTO:+0200
TZNAME:CEST
DTSTART:20250330T010000
END:DAYLIGHT
BEGIN:STANDARD
TZOFFSETFROM:+0200
TZOFFSETTO:+0100
TZNAME:CET
DTSTART:20251026T010000
END:STANDARD
END:VTIMEZONE
BEGIN:VEVENT
DTSTART;TZID=Europe/Rome:20240224T100000
DTEND;TZID=Europe/Rome:20240225T190000
DTSTAMP:20260422T151112
CREATED:20240125T101550Z
LAST-MODIFIED:20240125T103012Z
UID:13416-1708768800-1708887600@algavenice.com
SUMMARY:Fiera Benessere & Bio（ウェルネス＆ビオ フェア） サンタ・ルチーア・ディ・ピアーヴェ 2024年2月24日、25日
DESCRIPTION:アルガベニス スピルリナ自然食品サプリメント \nFiera Benessere & Bio（ウェルネス＆ビオ フェア） サンタ・ルチーア・ディ・ピアーヴェ \nStand 60（スタンド60） \n2024年2月24日～25日 \nタイムテーブル \n2月24日｜午前10時～午後8時 \n2月25日｜午前10時～午後7時
URL:https://algavenice.com/ja/evento/fiera-benessere-bio%ef%bc%88%e3%82%a6%e3%82%a7%e3%83%ab%e3%83%8d%e3%82%b9%ef%bc%86%e3%83%93%e3%82%aa%e3%83%95%e3%82%a7%e3%82%a2%ef%bc%89-%e3%82%b5%e3%83%b3%e3%82%bf%e3%83%bb%e3%83%ab%e3%83%81/
LOCATION:Fiera di Santa Lucia di Piave\, via Mareno\, 2\, 31025 Santa Lucia di Piave TV\, Italia
CATEGORIES:見本市と会議
ATTACH;FMTTYPE=image/png:https://algavenice.com/wp-content/uploads/2024/01/home-page-sito.png
ORGANIZER;CN="Societ%C3%A0 Agricola Serenissima S.r.l.":MAILTO:info@algavenice.com
END:VEVENT
BEGIN:VEVENT
DTSTART;TZID=Europe/Rome:20240217T100000
DTEND;TZID=Europe/Rome:20240218T190000
DTSTAMP:20260422T151112
CREATED:20240125T102900Z
LAST-MODIFIED:20240125T103042Z
UID:13419-1708164000-1708282800@algavenice.com
SUMMARY:Natural Expo fiera（ナチュラルエキスポ フェア） フォルリ 2024年2月17-18日
DESCRIPTION:アルガベニス スピルリナ自然食品サプリメント \nナチュラル・エキスポの “グリーン・ハート “フェアでお会いできることを楽しみにしています！ \npadiglione 1 stand 27（ホール1 スタンド27 ）
URL:https://algavenice.com/ja/evento/natural-expo-fiera%ef%bc%88%e3%83%8a%e3%83%81%e3%83%a5%e3%83%a9%e3%83%ab%e3%82%a8%e3%82%ad%e3%82%b9%e3%83%9d-%e3%83%95%e3%82%a3%e3%82%a8%e3%83%a9%ef%bc%89-%e3%83%95%e3%82%a9%e3%83%ab%e3%83%aa-2024/
LOCATION:Fiera di Forlì\, Via Punta di Ferro\, 2 - 47122\, 47122 Forlì (FC)\, Italia
CATEGORIES:見本市と会議
ATTACH;FMTTYPE=image/png:https://algavenice.com/wp-content/uploads/2024/01/NATURALEXPO-2024-1024x465-1.png
ORGANIZER;CN="Societ%C3%A0 Agricola Serenissima S.r.l.":MAILTO:info@algavenice.com
END:VEVENT
BEGIN:VEVENT
DTSTART;TZID=Europe/Rome:20240203T090000
DTEND;TZID=Europe/Rome:20240204T090000
DTSTAMP:20260422T151112
CREATED:20240125T104118Z
LAST-MODIFIED:20240125T104118Z
UID:13423-1706950800-1707037200@algavenice.com
SUMMARY:Malpensa Benessere（マルペンサ・ウェルネス） 2024年2月3日、4日 ブスト・アルシーツィオ
DESCRIPTION:アルガベニス スピルリナ \nPadiglione 2 stand 14（ホール2 スタンド14） \nマルペンサ・ウェルネス ブスト・アルシーツィオ \n \n2024年2月3日9:00 – 2024年2月4日18:00 \nMalpensa Fiere\, Via XI Settembre\, 16\, 21052 Busto Arsizio VA\, Italy
URL:https://algavenice.com/ja/evento/malpensa-benessere%ef%bc%88%e3%83%9e%e3%83%ab%e3%83%9a%e3%83%b3%e3%82%b5%e3%83%bb%e3%82%a6%e3%82%a7%e3%83%ab%e3%83%8d%e3%82%b9%ef%bc%89-2024%e5%b9%b42%e6%9c%883%e6%97%a5%e3%80%814%e6%97%a5-%e3%83%96/
LOCATION:Malpensa fiere busto Arsizio\, Via XI Settembre\, 16\, Busto Arsizio VA\, 21052\, Italia
CATEGORIES:見本市と会議
ATTACH;FMTTYPE=image/jpeg:https://algavenice.com/wp-content/uploads/2024/01/840ba5_7da329e6cc3049a8bab4e3e2e5372743mv2.jpg
ORGANIZER;CN="Societ%C3%A0 Agricola Serenissima S.r.l.":MAILTO:info@algavenice.com
END:VEVENT
BEGIN:VEVENT
DTSTART;TZID=Europe/Rome:20240126T140000
DTEND;TZID=Europe/Rome:20240128T190000
DTSTAMP:20260422T151112
CREATED:20240125T105640Z
LAST-MODIFIED:20240125T105640Z
UID:13425-1706277600-1706468400@algavenice.com
SUMMARY:Fiera Sapeu fiera（フィエラ サペウ）フォルリ 2024年1月26日～28日
DESCRIPTION:アルガベニス スピルリナ \nPadiglione A Stand 88（ホールA スタンド88） \n2024年1月26日～28日\nquartiere fieristico di Forlì\n第21回 Fiera Sapeu（フィエラ サペウ）\nMade in Italy（メイド・イン・イタリー）を代表する手作り製品の展示会。
URL:https://algavenice.com/ja/evento/fiera-sapeu-fiera%ef%bc%88%e3%83%95%e3%82%a3%e3%82%a8%e3%83%a9-%e3%82%b5%e3%83%9a%e3%82%a6%ef%bc%89%e3%83%95%e3%82%a9%e3%83%ab%e3%83%aa-2024%e5%b9%b41%e6%9c%8826%e6%97%a5%ef%bd%9e28%e6%97%a5/
LOCATION:Fiera di Forlì\, Via Punta di Ferro\, 2 - 47122\, 47122 Forlì (FC)\, Italia
CATEGORIES:見本市と会議
ATTACH;FMTTYPE=image/jpeg:https://algavenice.com/wp-content/uploads/2024/01/IMG-20231116-WA0003.jpg
ORGANIZER;CN="Societ%C3%A0 Agricola Serenissima S.r.l.":MAILTO:info@algavenice.com
END:VEVENT
BEGIN:VEVENT
DTSTART;TZID=Europe/Rome:20231215T080000
DTEND;TZID=Europe/Rome:20231217T190000
DTSTAMP:20260422T151112
CREATED:20240125T105913Z
LAST-MODIFIED:20240125T105913Z
UID:13427-1702627200-1702839600@algavenice.com
SUMMARY:ENCI Winner 🍬 ボローニャ 2023年12月15日/17日
DESCRIPTION:アルガベニス スピルリナ ビオ\nBologna fiera padiglione 36 area 11（ホール36 エリア11 ） \n 
URL:https://algavenice.com/ja/evento/enci-winner-%f0%9f%8d%ac-%e3%83%9c%e3%83%ad%e3%83%bc%e3%83%8b%e3%83%a3-2023%e5%b9%b412%e6%9c%8815%e6%97%a5-17%e6%97%a5/
LOCATION:Bologna Fiere\, viale della Fiera\, 20 - 40128\, Bologna (BO)\, Italia
ATTACH;FMTTYPE=image/jpeg:https://algavenice.com/wp-content/uploads/2023/12/Screenshot_20231210_110950.jpg
ORGANIZER;CN="Societ%C3%A0 Agricola Serenissima S.r.l.":MAILTO:info@algavenice.com
END:VEVENT
BEGIN:VEVENT
DTSTART;TZID=Europe/Rome:20231202T093000
DTEND;TZID=Europe/Rome:20231210T223000
DTSTAMP:20260422T151112
CREATED:20240125T110657Z
LAST-MODIFIED:20240125T110657Z
UID:13429-1701509400-1702247400@algavenice.com
SUMMARY:ARTIGIANO IN FIERA Rho Pero Milano （アルティジャーノ フィエラ ミラノ） 2023年12月2日～10日
DESCRIPTION:アルガベニス スピルリナがあなたをお待ちしています .\nPadiglione / Pavilion: Padiglione 01 VENETO\nスタンド: D97\nARTIGIANO IN FIERA Rho Pero Milano （アルティジャーノ フィエラ ミラノ） 2023年12月2日～10日
URL:https://algavenice.com/ja/evento/artigiano-in-fiera-rho-pero-milano-%ef%bc%88%e3%82%a2%e3%83%ab%e3%83%86%e3%82%a3%e3%82%b8%e3%83%a3%e3%83%bc%e3%83%8e-%e3%83%95%e3%82%a3%e3%82%a8%e3%83%a9-%e3%83%9f%e3%83%a9%e3%83%8e%ef%bc%89-2023/
LOCATION:Fiera di Rho\, Strada Statale Sempione\, 28 - 20017\, Rho (MI)\, Italia
ATTACH;FMTTYPE=image/jpeg:https://algavenice.com/wp-content/uploads/2023/11/download-1.jpg
ORGANIZER;CN="Societ%C3%A0 Agricola Serenissima S.r.l.":MAILTO:info@algavenice.com
END:VEVENT
BEGIN:VEVENT
DTSTART;TZID=Europe/Rome:20231117T103000
DTEND;TZID=Europe/Rome:20231119T200000
DTSTAMP:20260422T151112
CREATED:20240125T111202Z
LAST-MODIFIED:20240125T111202Z
UID:13432-1700217000-1700424000@algavenice.com
SUMMARY:Fiera di Autunno Morbegno -Sondrio（オータムフェア モルベーニョ -ソンドリオ） - 2023年11月17日～19日
DESCRIPTION:アルガベニス スピルリナBIO\nFiera di Autunno a Morbegno Sondrio（オータムフェア モルベーニョソンドリオ） – padiglione INGRESSO stand 15（ホールINGRESSOスタンド15）\nPolo Fieristico di Morbegno – Via Strada Comunale di Campagna\, 1 – 23017 Morbegno (SO)\n一般公開時間： \n2023年11月17日（金）午前10時30分～午後8時  \n2023年11月18日（土）午前10:30～午後9:00  \n2023年11月19日（日）午前10時30分～午後8時
URL:https://algavenice.com/ja/evento/fiera-di-autunno-morbegno-sondrio%ef%bc%88%e3%82%aa%e3%83%bc%e3%82%bf%e3%83%a0%e3%83%95%e3%82%a7%e3%82%a2-%e3%83%a2%e3%83%ab%e3%83%99%e3%83%bc%e3%83%8b%e3%83%a7-%e3%82%bd%e3%83%b3%e3%83%89%e3%83%aa/
LOCATION:fiera Morbegno\, Via Strada Comunale di Campagna\, 1\, Morbegno\, 23017
ATTACH;FMTTYPE=image/png:https://algavenice.com/wp-content/uploads/2023/10/Morbegno-Orizzontale.png
ORGANIZER;CN="Societ%C3%A0 Agricola Serenissima S.r.l.":MAILTO:info@algavenice.com
END:VEVENT
BEGIN:VEVENT
DTSTART;TZID=Europe/Rome:20231109T093000
DTEND;TZID=Europe/Rome:20231112T180000
DTSTAMP:20260422T151112
CREATED:20240125T143843Z
LAST-MODIFIED:20240125T143843Z
UID:13434-1699522200-1699812000@algavenice.com
SUMMARY:BIOLIFE fiera ボルツァーノ 2023年11月9-12日
DESCRIPTION:アルガベニス スピルリナ ビオ\nお待ちしております Padiglione AB Stand A04/22（ホールAB スタンドA04/22） \nボルツァーノで開催されるオーガニックライフを意識したライフスタイルフェア\n持続可能なライフスタイルに必要なものすべて：よく食べ、よく生き、良いことをする
URL:https://algavenice.com/ja/evento/biolife-fiera-%e3%83%9c%e3%83%ab%e3%83%84%e3%82%a1%e3%83%bc%e3%83%8e-2023%e5%b9%b411%e6%9c%889-12%e6%97%a5/
LOCATION:fiera di Bolzano\, Piazza Fiera 1\, bolzano\, 39100\, Italia
ATTACH;FMTTYPE=image/jpeg:https://algavenice.com/wp-content/uploads/2023/10/x_logo.jpg
ORGANIZER;CN="Societ%C3%A0 Agricola Serenissima S.r.l.":MAILTO:info@algavenice.com
END:VEVENT
BEGIN:VEVENT
DTSTART;TZID=Europe/Rome:20231028T100000
DTEND;TZID=Europe/Rome:20231101T200000
DTSTAMP:20260422T151112
CREATED:20240125T144329Z
LAST-MODIFIED:20240125T144329Z
UID:13437-1698487200-1698868800@algavenice.com
SUMMARY:Mostra Artigianato Lafiofiere - エルバ、コモ - 10月28日～11月1日
DESCRIPTION:アルガベニス スピルリナ ビオはpadiglione A STAND 070（ホールA STAND 070）でお待ちしております。\n第50回 Mostra Artigianatoにて、\n2023年10月28日から11月1日まで、Centro Espositivo Lariofiere\, Erba (CO)で開催予定
URL:https://algavenice.com/ja/evento/mostra-artigianato-lafiofiere-%e3%82%a8%e3%83%ab%e3%83%90%e3%80%81%e3%82%b3%e3%83%a2-10%e6%9c%8828%e6%97%a5%ef%bd%9e11%e6%9c%881%e6%97%a5/
LOCATION:LARIOFIERE ERBA COMO\, Viale Resegone sn\, Erba (CO)\, 22036\, Italia
ATTACH;FMTTYPE=image/png:https://algavenice.com/wp-content/uploads/2023/10/Immagine.png
ORGANIZER;CN="Societ%C3%A0 Agricola Serenissima S.r.l.":MAILTO:info@algavenice.com
END:VEVENT
BEGIN:VEVENT
DTSTART;TZID=Europe/Rome:20231013T093000
DTEND;TZID=Europe/Rome:20231016T190000
DTSTAMP:20260422T151112
CREATED:20240125T144811Z
LAST-MODIFIED:20240125T144826Z
UID:13440-1697189400-1697482800@algavenice.com
SUMMARY:COSMODONNA Verona Fiere（コスモドンナ ヴェローナ フィエレ） 2023年10月13～16日
DESCRIPTION:COSMODONNA Verona Fiere（コスモドンナ ヴェローナ フィエレ） 2023年10月13～16日\npadiglione 6 stand 544（ホール6 スタンド544 ） \n割引コード CD23VRRDDRK8D03 でチケットを 10 ユーロで購入できます (オンラインのみ)
URL:https://algavenice.com/ja/evento/cosmodonna-verona-fiere%ef%bc%88%e3%82%b3%e3%82%b9%e3%83%a2%e3%83%89%e3%83%b3%e3%83%8a-%e3%83%b4%e3%82%a7%e3%83%ad%e3%83%bc%e3%83%8a-%e3%83%95%e3%82%a3%e3%82%a8%e3%83%ac%ef%bc%89-2023%e5%b9%b410/
LOCATION:verona\, Viale del Lavoro\, 8\, verona\, Italia
ATTACH;FMTTYPE=image/jpeg:https://algavenice.com/wp-content/uploads/2023/10/NOI-ESPONIAMO_1200x628_VR.jpg
ORGANIZER;CN="Societ%C3%A0 Agricola Serenissima S.r.l.":MAILTO:info@algavenice.com
END:VEVENT
BEGIN:VEVENT
DTSTART;VALUE=DATE:20231007
DTEND;VALUE=DATE:20231009
DTSTAMP:20260422T151112
CREATED:20240125T145138Z
LAST-MODIFIED:20240125T145138Z
UID:13443-1696636800-1696809599@algavenice.com
SUMMARY:Biosalus Urbino 2023年10月7～8日
DESCRIPTION:14° Festival Nazionale del Biologico e del benessere olistico（第14回 全国オーガニック・ホリスティック・ウェルビーイング・フェスティバル） \nURBINO Collegio Raffaello – p.zza Della Repubblica \n土曜日 午前10時～午後8時 日曜日 午前10時～午後7時
URL:https://algavenice.com/ja/evento/biosalus-urbino-2023%e5%b9%b410%e6%9c%887%ef%bd%9e8%e6%97%a5/
LOCATION:urbino\, piazza della repubblica\, URBINO\, Italia
ATTACH;FMTTYPE=image/png:https://algavenice.com/wp-content/uploads/2023/10/biosalus_2023_locandina.png
ORGANIZER;CN="Societ%C3%A0 Agricola Serenissima S.r.l.":MAILTO:info@algavenice.com
END:VEVENT
BEGIN:VEVENT
DTSTART;VALUE=DATE:20230909
DTEND;VALUE=DATE:20230918
DTSTAMP:20260422T151112
CREATED:20240125T150107Z
LAST-MODIFIED:20240125T150107Z
UID:13447-1694217600-1694995199@algavenice.com
SUMMARY:Il Salone del Campe - Fiera di Parma（フィエラ ディ パルマ） - 2023年9月9日～17日
DESCRIPTION:アルガベニスは、2023 年 9 月 9 日から17 日までFiera di Parma（フィエラ ディ パルマ） Padiglione 02\, Stand C-062（ホール 02、スタンド C-062） で開催される「IL SALONE DEL CAMPER」で皆様をお待ちしております。
URL:https://algavenice.com/ja/evento/il-salone-del-campe-fiera-di-parma%ef%bc%88%e3%83%95%e3%82%a3%e3%82%a8%e3%83%a9-%e3%83%87%e3%82%a3-%e3%83%91%e3%83%ab%e3%83%9e%ef%bc%89-2023%e5%b9%b49%e6%9c%889%e6%97%a5%ef%bd%9e17%e6%97%a5/
LOCATION:IL SALONE DEL CAMPER\, Viale delle Esposizioni\, 393A\, Parma\, 43126\, Italia
CATEGORIES:見本市と会議
ATTACH;FMTTYPE=image/jpeg:https://algavenice.com/wp-content/uploads/2023/08/Il-Salone-del-Camper.jpg
ORGANIZER;CN="Societ%C3%A0 Agricola Serenissima S.r.l.":MAILTO:info@algavenice.com
END:VEVENT
BEGIN:VEVENT
DTSTART;VALUE=DATE:20230901
DTEND;VALUE=DATE:20230904
DTSTAMP:20260422T151112
CREATED:20240125T150836Z
LAST-MODIFIED:20240125T150836Z
UID:13449-1693526400-1693785599@algavenice.com
SUMMARY:FIERA DI SANT'ALESSANDRO（フィエラ ディ サンタレッサンドロ） - Fiera di Bergamo 2023年9月1日～3日
DESCRIPTION:アルガベニスは2023年9月1日から3日まで、Padiglione A\, Corsia A4\, Stand 167.（ホールA、通路A4、スタンド167）でお待ちしています。
URL:https://algavenice.com/ja/evento/fiera-di-santalessandro%ef%bc%88%e3%83%95%e3%82%a3%e3%82%a8%e3%83%a9-%e3%83%87%e3%82%a3-%e3%82%b5%e3%83%b3%e3%82%bf%e3%83%ac%e3%83%83%e3%82%b5%e3%83%b3%e3%83%89%e3%83%ad%ef%bc%89-fiera-di-bergamo/
LOCATION:Fiera di Sant’Alessandro (Bergamo)\, Via Lunga\, Bergamo\, 24125\, Italia
CATEGORIES:見本市と会議
ATTACH;FMTTYPE=image/jpeg:https://algavenice.com/wp-content/uploads/2023/08/Fiera-di-SantAlessandro.jpg
ORGANIZER;CN="Societ%C3%A0 Agricola Serenissima S.r.l.":MAILTO:info@algavenice.com
END:VEVENT
BEGIN:VEVENT
DTSTART;VALUE=DATE:20230825
DTEND;VALUE=DATE:20230828
DTSTAMP:20260422T151112
CREATED:20240125T153215Z
LAST-MODIFIED:20240125T153215Z
UID:13451-1692921600-1693180799@algavenice.com
SUMMARY:MONTAGNA IN FIERA（モンターニャ イン フィエラ） - Castiglione dei Pepoli (BO) 2023年8月25～27日
DESCRIPTION:アルガベニスは、2023年8月25日から27日まで、Castiglione dei PepoliのMontagna in Fieraにて、Via Pepoli (al crocevia con via Toscana)のSTAND P7でお待ちしています。
URL:https://algavenice.com/ja/evento/montagna-in-fiera%ef%bc%88%e3%83%a2%e3%83%b3%e3%82%bf%e3%83%bc%e3%83%8b%e3%83%a3-%e3%82%a4%e3%83%b3-%e3%83%95%e3%82%a3%e3%82%a8%e3%83%a9%ef%bc%89-castiglione-dei-pepoli-bo-2023%e5%b9%b48%e6%9c%882/
LOCATION:MONTAGNA IN FIERA – Castiglione dei Pepoli (BO)\, Piazza Marconi\, 1\, Castiglione dei Pepoli (BO)\, 40035\, Italia
CATEGORIES:見本市と会議
ATTACH;FMTTYPE=image/jpeg:https://algavenice.com/wp-content/uploads/2023/07/189b5cc9-3317-48cb-a945-fe03810b841c.jpg
ORGANIZER;CN="Societ%C3%A0 Agricola Serenissima S.r.l.":MAILTO:info@algavenice.com
END:VEVENT
BEGIN:VEVENT
DTSTART;VALUE=DATE:20230812
DTEND;VALUE=DATE:20230821
DTSTAMP:20260422T151112
CREATED:20240126T103609Z
LAST-MODIFIED:20240126T103609Z
UID:13454-1691798400-1692575999@algavenice.com
SUMMARY:SAGRA DELLE SAGRE - Barzio (LC) 2023年8月12日～20日 午前10時～午後11時
DESCRIPTION:アルガベニスは、Via Fornace Merlo – 23816 Barzio (LC)のSagra delle Sagreでお客様をお待ちしております。 \n入場無料、駐車場無料。
URL:https://algavenice.com/ja/evento/sagra-delle-sagre-barzio-lc-2023%e5%b9%b48%e6%9c%8812%e6%97%a5%ef%bd%9e20%e6%97%a5-%e5%8d%88%e5%89%8d10%e6%99%82%ef%bd%9e%e5%8d%88%e5%be%8c11%e6%99%82/
LOCATION:SAGRA DELLE SAGRE – Barzio\, Via Fornace Merlo\, Barzio (LC)\, 23816\, Italia
CATEGORIES:見本市と会議
ATTACH;FMTTYPE=image/jpeg:https://algavenice.com/wp-content/uploads/2023/07/PHOTO-2023-07-25-10-36-04.jpg
ORGANIZER;CN="Societ%C3%A0 Agricola Serenissima S.r.l.":MAILTO:info@algavenice.com
END:VEVENT
BEGIN:VEVENT
DTSTART;VALUE=DATE:20230622
DTEND;VALUE=DATE:20230626
DTSTAMP:20260422T151112
CREATED:20240126T103730Z
LAST-MODIFIED:20240126T103730Z
UID:13456-1687392000-1687737599@algavenice.com
SUMMARY:FIERA DELL'ECONOMIA MONTANA DI PAVULLO - 2023年6月22日から25日
DESCRIPTION:アルガベニスは、第22回 Fiera dell’Economia Montana di Pavulloで皆様をお待ちしております！
URL:https://algavenice.com/ja/evento/fiera-delleconomia-montana-di-pavullo-2023%e5%b9%b46%e6%9c%8822%e6%97%a5%e3%81%8b%e3%82%8925%e6%97%a5/
LOCATION:Fiera dell’Economia Montana 2023\, Zona Stadio / Via Braglia / Piazza Toscanini\, Pavullo nel Frignano (MO)\, 41026\, Italia
ATTACH;FMTTYPE=image/jpeg:https://algavenice.com/wp-content/uploads/2023/06/IMG_3387.jpg
ORGANIZER;CN="Societ%C3%A0 Agricola Serenissima S.r.l.":MAILTO:info@algavenice.com
END:VEVENT
BEGIN:VEVENT
DTSTART;VALUE=DATE:20230613
DTEND;VALUE=DATE:20230614
DTSTAMP:20260422T151112
CREATED:20240126T104013Z
LAST-MODIFIED:20240126T104013Z
UID:13458-1686614400-1686700799@algavenice.com
SUMMARY:PADOVA FESTEGGIA IL SANTO - 2023年6月13日
DESCRIPTION:アルガベニスは、Prato della Valle（パドヴァ）で開催されるマーケットと特産品展示会で皆様をお待ちしております！
URL:https://algavenice.com/ja/evento/padova-festeggia-il-santo-2023%e5%b9%b46%e6%9c%8813%e6%97%a5/
LOCATION:PADOVA festeggia il Santo\, Prato della Valle\, Padova\, 35141\, Italia
CATEGORIES:見本市と会議
ATTACH;FMTTYPE=image/jpeg:https://algavenice.com/wp-content/uploads/2023/06/photo-output.jpg
ORGANIZER;CN="Societ%C3%A0 Agricola Serenissima S.r.l.":MAILTO:info@algavenice.com
END:VEVENT
BEGIN:VEVENT
DTSTART;VALUE=DATE:20230526
DTEND;VALUE=DATE:20230529
DTSTAMP:20260422T151112
CREATED:20240126T104520Z
LAST-MODIFIED:20240126T104520Z
UID:13461-1685059200-1685318399@algavenice.com
SUMMARY:FIERA FLOR PRIMAVERA DI TORINO - 2023年5月26日から28日
DESCRIPTION:アルガベニスは、2023年5月26日から28日まで、Piazzetta Reale\, 1\, 10124 Torino (TO)で開催されるfiera FLOR PRIMAVERAで、9:00から20:00までお待ちしています。 私たちのブースは、屋外庭園の posto 91にあります。 ぜひ多くの皆様のご来場をお待ちしております！
URL:https://algavenice.com/ja/evento/fiera-flor-primavera-di-torino-2023%e5%b9%b45%e6%9c%8826%e6%97%a5%e3%81%8b%e3%82%8928%e6%97%a5/
LOCATION:Fiera FLOR PRIMAVERA\, Piazzetta Reale\, 1\, Torino\, 10124\, Italia
CATEGORIES:見本市と会議
ATTACH;FMTTYPE=image/jpeg:https://algavenice.com/wp-content/uploads/2023/05/Immagine-WhatsApp-2023-05-24-ore-11.32.37.jpg
ORGANIZER;CN="Societ%C3%A0 Agricola Serenissima S.r.l.":MAILTO:info@algavenice.com
END:VEVENT
BEGIN:VEVENT
DTSTART;VALUE=DATE:20230513
DTEND;VALUE=DATE:20230522
DTSTAMP:20260422T151112
CREATED:20240126T105341Z
LAST-MODIFIED:20240126T105341Z
UID:13463-1683936000-1684713599@algavenice.com
SUMMARY:FIERA CAMPIONARIA DI PADOVA - 2023年5月13日～21日
DESCRIPTION:アルガベニスはFiera Campionaria di PadovaのPAD 7 – CORSIA B – STAND 049でお待ちしております。
URL:https://algavenice.com/ja/evento/fiera-campionaria-di-padova-2023%e5%b9%b45%e6%9c%8813%e6%97%a5%ef%bd%9e21%e6%97%a5/
LOCATION:FIERA CAMPIONARIA DI PADOVA\, via Niccolò Tommaseo\, 59\, Padova\, 35131\, Italia
CATEGORIES:見本市と会議
ATTACH;FMTTYPE=image/jpeg:https://algavenice.com/wp-content/uploads/2023/05/CMP_1080px.jpg
ORGANIZER;CN="Societ%C3%A0 Agricola Serenissima S.r.l.":MAILTO:info@algavenice.com
END:VEVENT
BEGIN:VEVENT
DTSTART;VALUE=DATE:20230425
DTEND;VALUE=DATE:20230502
DTSTAMP:20260422T151112
CREATED:20240126T105516Z
LAST-MODIFIED:20240126T105516Z
UID:13465-1682380800-1682985599@algavenice.com
SUMMARY:FIERA MIDA DI FIRENZE - 2023年4月25日～5月1日
DESCRIPTION:アルガベニス は 4月25日から5月1日まで開催される Firenze alla Fiera MIDAで皆様にお会いできることを楽しみにしております。
URL:https://algavenice.com/ja/evento/fiera-mida-di-firenze-2023%e5%b9%b44%e6%9c%8825%e6%97%a5%ef%bd%9e5%e6%9c%881%e6%97%a5/
LOCATION:FIERA MIDA FIRENZE\, Piazza Adua\, 1\, Firenze\, 50123\, Italia
CATEGORIES:見本市と会議
ATTACH;FMTTYPE=image/jpeg:https://algavenice.com/wp-content/uploads/2023/05/PHOTO-2023-05-02-12-35-12.jpg
ORGANIZER;CN="Societ%C3%A0 Agricola Serenissima S.r.l.":MAILTO:info@algavenice.com
END:VEVENT
BEGIN:VEVENT
DTSTART;VALUE=DATE:20230415
DTEND;VALUE=DATE:20230419
DTSTAMP:20260422T151112
CREATED:20240126T105635Z
LAST-MODIFIED:20240126T105635Z
UID:13467-1681516800-1681862399@algavenice.com
SUMMARY:FIERA TIPWORLD DI BRUNICO - 2023年4月15日から18日
DESCRIPTION:アルガベニスはSTAND 3/288でお待ちしております。
URL:https://algavenice.com/ja/evento/fiera-tipworld-di-brunico-2023%e5%b9%b44%e6%9c%8815%e6%97%a5%e3%81%8b%e3%82%8918%e6%97%a5/
LOCATION:FIERA DI BRUNICO\, Piazza del Mercato di Stegona\, Brunico (BZ)\, 39031\, Italia
CATEGORIES:見本市と会議
ATTACH;FMTTYPE=image/png:https://algavenice.com/wp-content/uploads/2023/04/brunico-1.png
ORGANIZER;CN="Societ%C3%A0 Agricola Serenissima S.r.l.":MAILTO:info@algavenice.com
END:VEVENT
BEGIN:VEVENT
DTSTART;VALUE=DATE:20230330
DTEND;VALUE=DATE:20230403
DTSTAMP:20260422T151112
CREATED:20240126T105732Z
LAST-MODIFIED:20240126T105732Z
UID:13469-1680134400-1680479999@algavenice.com
SUMMARY:ルガーノで3月30日から4月2日まで開催されるTISANA - FIERA DEL BENESSERE
DESCRIPTION:アルガベニスはルガーノで開催されるFiera del BenessereのSTAND128でお待ちしております。
URL:https://algavenice.com/ja/evento/%e3%83%ab%e3%82%ac%e3%83%bc%e3%83%8e%e3%81%a73%e6%9c%8830%e6%97%a5%e3%81%8b%e3%82%894%e6%9c%882%e6%97%a5%e3%81%be%e3%81%a7%e9%96%8b%e5%82%ac%e3%81%95%e3%82%8c%e3%82%8btisana-fiera-del-benessere/
LOCATION:FIERA DI LUGANO\, Via Purasca\, 28\, Lugano\, 6988\, Svizzera
CATEGORIES:見本市と会議
ATTACH;FMTTYPE=image/jpeg:https://algavenice.com/wp-content/uploads/2023/03/Fiera-del-Benessere.jpg
ORGANIZER;CN="Societ%C3%A0 Agricola Serenissima S.r.l.":MAILTO:info@algavenice.com
END:VEVENT
BEGIN:VEVENT
DTSTART;TZID=Europe/Rome:20230324T080000
DTEND;TZID=Europe/Rome:20230326T180000
DTSTAMP:20260422T151112
CREATED:20240126T110254Z
LAST-MODIFIED:20240126T110254Z
UID:13471-1679644800-1679853600@algavenice.com
SUMMARY:FA LA COSA GIUSTA! MILANO CITY - 2023年3月24日～26日
DESCRIPTION:アルガベニスはPAD 4 AREA VEGAN STAND EB1でお待ちしております。
URL:https://algavenice.com/ja/evento/fa-la-cosa-giusta-milano-city-2023%e5%b9%b43%e6%9c%8824%e6%97%a5%ef%bd%9e26%e6%97%a5/
LOCATION:MILANO CITY\, viale Lodovico Scarampo\, 2\, 20149 Milano Italia\, Italia
CATEGORIES:見本市と会議
ATTACH;FMTTYPE=image/jpeg:https://algavenice.com/wp-content/uploads/2023/03/FLCG_Milano_2023.jpg
ORGANIZER;CN="Societ%C3%A0 Agricola Serenissima S.r.l.":MAILTO:info@algavenice.com
END:VEVENT
BEGIN:VEVENT
DTSTART;TZID=Europe/Rome:20230304T080000
DTEND;TZID=Europe/Rome:20230312T170000
DTSTAMP:20260422T151112
CREATED:20240126T110529Z
LAST-MODIFIED:20240126T110529Z
UID:13473-1677916800-1678640400@algavenice.com
SUMMARY:Fiera ORTO GIARDINO ポルデノーネ 3月4～12日
DESCRIPTION:2023年3月4日（土）から12日（日）まで–アルガベニス スピルリナ BIO \nPAD. 9 STAND 13- AZ.AGR. SERENISSIMA \nFiera ORTO GIARDINO – FIERE PORDENONE
URL:https://algavenice.com/ja/evento/fiera-orto-giardino-%e3%83%9d%e3%83%ab%e3%83%87%e3%83%8e%e3%83%bc%e3%83%8d-3%e6%9c%884%ef%bd%9e12%e6%97%a5/
LOCATION:Fiera Ortogiardino Pordenone\, viale Treviso\, 1\, Pordenone - In Pordenone Fiere S.p.A.\, Italia
CATEGORIES:見本市と会議
ATTACH;FMTTYPE=image/webp:https://algavenice.com/wp-content/uploads/2023/03/ORTOGIARDINO-2023_390x390px_001.webp
ORGANIZER;CN="Societ%C3%A0 Agricola Serenissima S.r.l.":MAILTO:info@algavenice.com
END:VEVENT
BEGIN:VEVENT
DTSTART;TZID=Europe/Rome:20230224T080000
DTEND;TZID=Europe/Rome:20230226T170000
DTSTAMP:20260422T151112
CREATED:20240126T110816Z
LAST-MODIFIED:20240126T110816Z
UID:13475-1677225600-1677430800@algavenice.com
SUMMARY:Fiera Benessere & Bio Santa Lucia di Piave (TV) 2023年2月24日/26日
DESCRIPTION:2023年2月24日（金）から26日（日） \nSTAND 59- AZ.AGR. SERENISSIMA – アルガベニス スピルリナ BIO \nFiera Benessere & Bio – AREA FIERE Santa Lucia di Piave (TV)
URL:https://algavenice.com/ja/evento/fiera-benessere-bio-santa-lucia-di-piave-tv-2023%e5%b9%b42%e6%9c%8824%e6%97%a5-26%e6%97%a5/
LOCATION:Fiera di Santa Lucia di Piave\, via Mareno\, 2\, 31025 Santa Lucia di Piave TV\, Italia
CATEGORIES:見本市と会議
ATTACH;FMTTYPE=image/jpeg:https://algavenice.com/wp-content/uploads/2023/03/benessere-bio-santa-lucia-di-piave.jpg
ORGANIZER;CN="Societ%C3%A0 Agricola Serenissima S.r.l.":MAILTO:info@algavenice.com
END:VEVENT
BEGIN:VEVENT
DTSTART;TZID=Europe/Rome:20230218T080000
DTEND;TZID=Europe/Rome:20230219T170000
DTSTAMP:20260422T151112
CREATED:20240126T111004Z
LAST-MODIFIED:20240126T111004Z
UID:13477-1676707200-1676826000@algavenice.com
SUMMARY:Fiera Natural Expo 2023 - 2月18、19日 - フォルリ
DESCRIPTION:アルガベニスはSTAND 45で皆様をお待ちしております。 \nfiera Natural Expo 2023は 2 月 18 日と 19 日に開催されます。
URL:https://algavenice.com/ja/evento/fiera-natural-expo-2023-2%e6%9c%8818%e3%80%8119%e6%97%a5-%e3%83%95%e3%82%a9%e3%83%ab%e3%83%aa/
LOCATION:Fiera di Forlì\, Via Punta di Ferro\, 2 - 47122\, 47122 Forlì (FC)\, Italia
CATEGORIES:見本市と会議
ATTACH;FMTTYPE=image/jpeg:https://algavenice.com/wp-content/uploads/2023/03/natural_expo_fiera_di_forli.jpg
ORGANIZER;CN="Societ%C3%A0 Agricola Serenissima S.r.l.":MAILTO:info@algavenice.com
END:VEVENT
BEGIN:VEVENT
DTSTART;TZID=Europe/Rome:20230127T080000
DTEND;TZID=Europe/Rome:20230129T170000
DTSTAMP:20260422T151112
CREATED:20240126T111515Z
LAST-MODIFIED:20240126T111515Z
UID:13479-1674806400-1675011600@algavenice.com
SUMMARY:SAPEUR Fiera フォルリ 2023年1月27-28-29日
DESCRIPTION:SAPEUR 2023「il cibo è salute」でお会いできることを楽しみにしています。 \n2023年1月27日～28日、29日にフォルリで開催される第20回Sapeurは、ワイン、食品、手工芸品、伝統的なイタリアの味を紹介する、典型的な高品質製品の見本市です。
URL:https://algavenice.com/ja/evento/sapeur-fiera-%e3%83%95%e3%82%a9%e3%83%ab%e3%83%aa-2023%e5%b9%b41%e6%9c%8827-28-29%e6%97%a5/
LOCATION:Fiera di Forlì\, Via Punta di Ferro\, 2 - 47122\, 47122 Forlì (FC)\, Italia
CATEGORIES:見本市と会議
ATTACH;FMTTYPE=image/jpeg:https://algavenice.com/wp-content/uploads/2023/03/sapeur-forli-2023.jpg
ORGANIZER;CN="Societ%C3%A0 Agricola Serenissima S.r.l.":MAILTO:info@algavenice.com
END:VEVENT
BEGIN:VEVENT
DTSTART;TZID=Europe/Rome:20221203T080000
DTEND;TZID=Europe/Rome:20221211T170000
DTSTAMP:20260422T151112
CREATED:20240126T111905Z
LAST-MODIFIED:20240126T111905Z
UID:13481-1670054400-1670778000@algavenice.com
SUMMARY:Artigiano in Fiera Rho Milano（アルティジャーノ フィエラ） 2022年12月3日～11日
DESCRIPTION:Artigiano in Fiera（アルティジャーノ フィエラ）は、職人技と中小企業に特化した世界で最も重要なイベントです。\nイタリア全土からオーガニック商品を含む企業や生産者が集結！\nPadiglione 1 Stand C97（ホール1 スタンドC97 ）
URL:https://algavenice.com/ja/evento/artigiano-in-fiera-rho-milano%ef%bc%88%e3%82%a2%e3%83%ab%e3%83%86%e3%82%a3%e3%82%b8%e3%83%a3%e3%83%bc%e3%83%8e-%e3%83%95%e3%82%a3%e3%82%a8%e3%83%a9%ef%bc%89-2022%e5%b9%b412%e6%9c%883%e6%97%a5%ef%bd%9e/
LOCATION:Fiera di Rho\, Strada Statale Sempione\, 28 - 20017\, Rho (MI)\, Italia
CATEGORIES:見本市と会議
ATTACH;FMTTYPE=image/jpeg:https://algavenice.com/wp-content/uploads/2023/03/artigiano_in_fiera_2022.jpeg
ORGANIZER;CN="Societ%C3%A0 Agricola Serenissima S.r.l.":MAILTO:info@algavenice.com
END:VEVENT
BEGIN:VEVENT
DTSTART;TZID=Europe/Rome:20221125T080000
DTEND;TZID=Europe/Rome:20221127T170000
DTSTAMP:20260422T151112
CREATED:20240126T112117Z
LAST-MODIFIED:20240126T112117Z
UID:13483-1669363200-1669568400@algavenice.com
SUMMARY:Fiera EXPOGUSTI & SHOPPING ボローニャ 2022年11月25-26-27日
DESCRIPTION:Expogusti & Shoppingは、BolognaFiereで開催されるクリスマス・ショッピングに特化した展示会です。 \n最も愛されるイベントの 1 つとして、健康、福祉、ギフトを提供します。
URL:https://algavenice.com/ja/evento/fiera-expogusti-shopping-%e3%83%9c%e3%83%ad%e3%83%bc%e3%83%8b%e3%83%a3-2022%e5%b9%b411%e6%9c%8825-26-27%e6%97%a5/
LOCATION:Bologna Fiere\, viale della Fiera\, 20 - 40128\, Bologna (BO)\, Italia
CATEGORIES:見本市と会議
ATTACH;FMTTYPE=image/webp:https://algavenice.com/wp-content/uploads/2023/03/Fiera-Expogusti-Bologna.webp
ORGANIZER;CN="Societ%C3%A0 Agricola Serenissima S.r.l.":MAILTO:info@algavenice.com
END:VEVENT
BEGIN:VEVENT
DTSTART;TZID=Europe/Rome:20221119T080000
DTEND;TZID=Europe/Rome:20221120T170000
DTSTAMP:20260422T151112
CREATED:20240126T112650Z
LAST-MODIFIED:20240126T112650Z
UID:13485-1668844800-1668963600@algavenice.com
SUMMARY:2022年11月19・20日、パドヴァのPrato della Valleで秋の味覚を楽しむ
DESCRIPTION:Prato della Valle Padova Lobo サンタ・ジュスティーナ – 土曜日、日曜日もお待ちしております。\n地元産品の直売や試食も。\nパドヴァとヴェネト地域の最高の農産食品を集めた市場展示会。\nゼロkmマーケットに加え、試食会、ワークショップ、ラボラトリーも開催されます。
URL:https://algavenice.com/ja/evento/2022%e5%b9%b411%e6%9c%8819%e3%83%bb20%e6%97%a5%e3%80%81%e3%83%91%e3%83%89%e3%83%b4%e3%82%a1%e3%81%aeprato-della-valle%e3%81%a7%e7%a7%8b%e3%81%ae%e5%91%b3%e8%a6%9a%e3%82%92%e6%a5%bd%e3%81%97%e3%82%80/
LOCATION:Eventi in Prato della Valle a Padova\, Prato della Valle - 35141\, Padova (PD)
CATEGORIES:見本市と会議
ATTACH;FMTTYPE=image/jpeg:https://algavenice.com/wp-content/uploads/2023/03/saporti_autunno_in_prato_della_valle.jpg
ORGANIZER;CN="Societ%C3%A0 Agricola Serenissima S.r.l.":MAILTO:info@algavenice.com
END:VEVENT
END:VCALENDAR